BEGIN:VCALENDAR
VERSION:2.0
PRODID:-//Resilience and Acceptance in the Face of Collapse - ECPv6.15.20//NONSGML v1.0//EN
CALSCALE:GREGORIAN
METHOD:PUBLISH
X-WR-CALNAME:Resilience and Acceptance in the Face of Collapse
X-ORIGINAL-URL:https://acceptingcollapse.com
X-WR-CALDESC:Events for Resilience and Acceptance in the Face of Collapse
REFRESH-INTERVAL;VALUE=DURATION:PT1H
X-Robots-Tag:noindex
X-PUBLISHED-TTL:PT1H
BEGIN:VTIMEZONE
TZID:America/New_York
BEGIN:DAYLIGHT
TZOFFSETFROM:-0500
TZOFFSETTO:-0400
TZNAME:EDT
DTSTART:20230312T070000
END:DAYLIGHT
BEGIN:STANDARD
TZOFFSETFROM:-0400
TZOFFSETTO:-0500
TZNAME:EST
DTSTART:20231105T060000
END:STANDARD
BEGIN:DAYLIGHT
TZOFFSETFROM:-0500
TZOFFSETTO:-0400
TZNAME:EDT
DTSTART:20240310T070000
END:DAYLIGHT
BEGIN:STANDARD
TZOFFSETFROM:-0400
TZOFFSETTO:-0500
TZNAME:EST
DTSTART:20241103T060000
END:STANDARD
BEGIN:DAYLIGHT
TZOFFSETFROM:-0500
TZOFFSETTO:-0400
TZNAME:EDT
DTSTART:20250309T070000
END:DAYLIGHT
BEGIN:STANDARD
TZOFFSETFROM:-0400
TZOFFSETTO:-0500
TZNAME:EST
DTSTART:20251102T060000
END:STANDARD
BEGIN:DAYLIGHT
TZOFFSETFROM:-0500
TZOFFSETTO:-0400
TZNAME:EDT
DTSTART:20260308T070000
END:DAYLIGHT
BEGIN:STANDARD
TZOFFSETFROM:-0400
TZOFFSETTO:-0500
TZNAME:EST
DTSTART:20261101T060000
END:STANDARD
BEGIN:DAYLIGHT
TZOFFSETFROM:-0500
TZOFFSETTO:-0400
TZNAME:EDT
DTSTART:20270314T070000
END:DAYLIGHT
BEGIN:STANDARD
TZOFFSETFROM:-0400
TZOFFSETTO:-0500
TZNAME:EST
DTSTART:20271107T060000
END:STANDARD
END:VTIMEZONE
BEGIN:VEVENT
DTSTART;TZID=America/New_York:20260205T120000
DTEND;TZID=America/New_York:20260205T133000
DTSTAMP:20260423T133916
CREATED:20251205T030556Z
LAST-MODIFIED:20260223T020050Z
UID:10000552-1770292800-1770298200@acceptingcollapse.com
SUMMARY:Resilience and Acceptance in the Face of Collapse
DESCRIPTION:In this 9-session course\, we create space to talk together about the environmental and cultural predicament we face\, and how we can meet the challenges of collapse courageously as a community. The course is offered free of charge. We will meet weekly\, beginning Thursday\, February 5\, 2026 at 12:00 P.M. Eastern US. Click here for time in your time zone. Includes carefully curated homework assignments and guided group discussion. Co-led by Kelle Kersten and Rochelle Sokoll. Course attendance limited to 20 participants. \n\n\n\n\n\nCourse Leaders:
URL:https://acceptingcollapse.com/index.php/event/resilience-and-acceptance-in-the-face-of-collapse-33/
CATEGORIES:R & A Course
ATTACH;FMTTYPE=image/jpeg:https://acceptingcollapse.com/wp-content/uploads/2023/10/jaromir-kavan-vv-oEGlN-4E-unsplash.jpg
ORGANIZER;CN="Kelle Kersten":MAILTO:magicjubilee@yahoo.com
END:VEVENT
BEGIN:VEVENT
DTSTART;TZID=America/New_York:20251016T120000
DTEND;TZID=America/New_York:20251016T133000
DTSTAMP:20260423T133916
CREATED:20250520T183035Z
LAST-MODIFIED:20251013T155407Z
UID:10000521-1760616000-1760621400@acceptingcollapse.com
SUMMARY:Resilience and Acceptance in the Face of Collapse
DESCRIPTION:In this 9-session course\, we create space to talk together about the environmental and cultural predicament we face\, and how we can meet the challenges of collapse courageously as a community. The course is offered free of charge.  We will meet weekly\, beginning Thursday\, October 16\, 2025\, 12:00 PM US Eastern- 1:30 PM. There will be no course meeting on November 27\, Thanksgiving Day in the U. S. Click here for the START TIME in your time zone. Includes carefully curated homework assignments and guided group discussion. Co-led by Kelle Kersten and Rochelle Sokol. Course attendance limited to 20 participants. \n\n\n\n\n\nCourse Leaders:
URL:https://acceptingcollapse.com/index.php/event/resilience-and-acceptance-in-the-face-of-collapse-25/
CATEGORIES:R & A Course
ATTACH;FMTTYPE=image/jpeg:https://acceptingcollapse.com/wp-content/uploads/2023/12/pexels.com_seaport-during-daytime-132037-scaled.jpg
ORGANIZER;CN="Rochelle Sokoll":MAILTO:rochelle.sokoll@gmail.com
END:VEVENT
BEGIN:VEVENT
DTSTART;TZID=America/New_York:20250313T120000
DTEND;TZID=America/New_York:20250313T133000
DTSTAMP:20260423T133916
CREATED:20241206T184739Z
LAST-MODIFIED:20250425T132112Z
UID:10000496-1741867200-1741872600@acceptingcollapse.com
SUMMARY:Resilience and Acceptance in the Face of Collapse
DESCRIPTION:A free\, 9-session online course about the climate and cultural predicament we face\, meeting weekly Thursdays\, beginning March 13\, 2025\, 12:00 PM US Eastern- 1:30 PM. Click here for the START TIME in your time zone. Includes carefully curated homework assignments and guided group discussion. Co-led by Kelle Kersten and Rochelle Sokol. Course attendance limited to 20 participants. \n\n\n\n\n\nCourse Leaders:
URL:https://acceptingcollapse.com/index.php/event/resilience-and-acceptance-in-the-face-of-collapse-13/
CATEGORIES:R & A Course
ATTACH;FMTTYPE=image/jpeg:https://acceptingcollapse.com/wp-content/uploads/2023/12/pexels.com_seaport-during-daytime-132037-scaled.jpg
ORGANIZER;CN="Kelle Kersten":MAILTO:magicjubilee@yahoo.com
END:VEVENT
BEGIN:VEVENT
DTSTART;TZID=America/New_York:20241010T120000
DTEND;TZID=America/New_York:20241010T133000
DTSTAMP:20260423T133916
CREATED:20240711T202050Z
LAST-MODIFIED:20240712T150100Z
UID:10000460-1728561600-1728567000@acceptingcollapse.com
SUMMARY:Resilience and Acceptance in the Face of Collapse
DESCRIPTION:A free\, 9-session online course about the climate and cultural predicament we face\, meeting weekly Thursdays\, beginning October 10\, 12:00 PM US Eastern\, with the exception of November 28\, Thanksgiving Day in the US. Click here for the START TIME in your time zone. Includes carefully curated homework assignments and guided group discussion. Co-led by Kelle Kersten and Rochelle Sokol. Course attendance limited to 25 participants. \n\n\n\n\n\nCourse Leaders:
URL:https://acceptingcollapse.com/index.php/event/resilience-and-acceptance-in-the-face-of-collapse-11/
CATEGORIES:R & A Course
ATTACH;FMTTYPE=image/jpeg:https://acceptingcollapse.com/wp-content/uploads/2023/12/pexels.com_seaport-during-daytime-132037-scaled.jpg
ORGANIZER;CN="Kelle Kersten":MAILTO:magicjubilee@yahoo.com
END:VEVENT
BEGIN:VEVENT
DTSTART;TZID=America/New_York:20240411T120000
DTEND;TZID=America/New_York:20240411T133000
DTSTAMP:20260423T133916
CREATED:20240222T220046Z
LAST-MODIFIED:20240303T183511Z
UID:10000447-1712836800-1712842200@acceptingcollapse.com
SUMMARY:Resilience and Acceptance in the Face of Collapse
DESCRIPTION:A free\, 9-session online course about the climate and cultural predicament we face\, meeting weekly Thursdays\, beginning April 11\, 2024\, 12:00 PM US Eastern\, with the exception of May 16\, which we will need to skip.  Click here for the START TIME in your time zone. Includes carefully curated homework assignments and guided group discussion.  Co-led by Kelle Kersten and Rochelle Sokol\, assisted by Alice Armstrong.  Course attendance limited to 25 participants. \n\n\n\n\n\nCourse Leaders:
URL:https://acceptingcollapse.com/index.php/event/resilience-and-acceptance-in-the-face-of-collapse-7/
CATEGORIES:R & A Course
ATTACH;FMTTYPE=image/jpeg:https://acceptingcollapse.com/wp-content/uploads/2023/12/pexels.com_seaport-during-daytime-132037-scaled.jpg
ORGANIZER;CN="Kelle Kersten":MAILTO:magicjubilee@yahoo.com
END:VEVENT
END:VCALENDAR