BEGIN:VCALENDAR
VERSION:2.0
PRODID:-//Resilience and Acceptance in the Face of Collapse - ECPv6.15.20//NONSGML v1.0//EN
CALSCALE:GREGORIAN
METHOD:PUBLISH
X-WR-CALNAME:Resilience and Acceptance in the Face of Collapse
X-ORIGINAL-URL:https://acceptingcollapse.com
X-WR-CALDESC:Events for Resilience and Acceptance in the Face of Collapse
REFRESH-INTERVAL;VALUE=DURATION:PT1H
X-Robots-Tag:noindex
X-PUBLISHED-TTL:PT1H
BEGIN:VTIMEZONE
TZID:America/New_York
BEGIN:DAYLIGHT
TZOFFSETFROM:-0500
TZOFFSETTO:-0400
TZNAME:EDT
DTSTART:20240310T070000
END:DAYLIGHT
BEGIN:STANDARD
TZOFFSETFROM:-0400
TZOFFSETTO:-0500
TZNAME:EST
DTSTART:20241103T060000
END:STANDARD
BEGIN:DAYLIGHT
TZOFFSETFROM:-0500
TZOFFSETTO:-0400
TZNAME:EDT
DTSTART:20250309T070000
END:DAYLIGHT
BEGIN:STANDARD
TZOFFSETFROM:-0400
TZOFFSETTO:-0500
TZNAME:EST
DTSTART:20251102T060000
END:STANDARD
BEGIN:DAYLIGHT
TZOFFSETFROM:-0500
TZOFFSETTO:-0400
TZNAME:EDT
DTSTART:20260308T070000
END:DAYLIGHT
BEGIN:STANDARD
TZOFFSETFROM:-0400
TZOFFSETTO:-0500
TZNAME:EST
DTSTART:20261101T060000
END:STANDARD
BEGIN:DAYLIGHT
TZOFFSETFROM:-0500
TZOFFSETTO:-0400
TZNAME:EDT
DTSTART:20270314T070000
END:DAYLIGHT
BEGIN:STANDARD
TZOFFSETFROM:-0400
TZOFFSETTO:-0500
TZNAME:EST
DTSTART:20271107T060000
END:STANDARD
END:VTIMEZONE
BEGIN:VEVENT
DTSTART;TZID=America/New_York:20260324T190000
DTEND;TZID=America/New_York:20260324T203000
DTSTAMP:20260425T134058
CREATED:20260113T154134Z
LAST-MODIFIED:20260323T063311Z
UID:10000574-1774378800-1774384200@acceptingcollapse.com
SUMMARY:Resilience and Acceptance in the Face of Collapse
DESCRIPTION:In this 9-session course\, we create space to talk together about the environmental and cultural predicament we face\, and how we can meet the challenges of collapse courageously as a community. The course is offered free of charge. We will meet weekly\, beginning March 24\, 2026 at 7-8:30 pm Eastern US. Click here for time in your time zone. Includes carefully curated homework assignments and guided group discussion. Co-led by Robert Whitehair and Geoff Ainscow. Course attendance limited to 27 participants. \n\n\n\n\n\nCourse Leaders:
URL:https://acceptingcollapse.com/index.php/event/resilience-and-acceptance-in-the-face-of-collapse-52/
CATEGORIES:R & A Course
ATTACH;FMTTYPE=image/jpeg:https://acceptingcollapse.com/wp-content/uploads/2025/10/IMG_0833-scaled.jpg
ORGANIZER;CN="Robert Whitehair":MAILTO:robertwhitehair2@gmail.com
END:VEVENT
BEGIN:VEVENT
DTSTART;TZID=America/New_York:20250923T190000
DTEND;TZID=America/New_York:20250923T203000
DTSTAMP:20260425T134058
CREATED:20250606T192749Z
LAST-MODIFIED:20251120T181013Z
UID:10000524-1758654000-1758659400@acceptingcollapse.com
SUMMARY:Resilience and Acceptance in the Face of Collapse
DESCRIPTION:Our course leaders and developers offer the Resilience and Acceptance course as a gift–free of charge–to all course participants.  In this 9-session course\, we create space to talk together about the environmental and cultural predicament we face\, and how we can meet the challenges of collapse courageously as a community.  We will meet weekly on Tuesdays starting September 23\, 2025\, 7:00 PM Eastern US. Click here for time in your time zone. Includes carefully curated homework assignments and guided group discussion. Co-led by Robert Whitehair and Geoff Ainscow. Course attendance limited to 27 participants. \n\n\n\n\n\nCourse Leaders:
URL:https://acceptingcollapse.com/index.php/event/resilience-and-acceptance-in-the-face-of-collapse-26/
CATEGORIES:R & A Course
ATTACH;FMTTYPE=image/jpeg:https://acceptingcollapse.com/wp-content/uploads/2023/12/v2osk-C68WT0YKGxo-unsplash-1.jpg
ORGANIZER;CN="Geoff  Ainscow":MAILTO:gbainscow@gmail.com
END:VEVENT
BEGIN:VEVENT
DTSTART;TZID=America/New_York:20250325T193000
DTEND;TZID=America/New_York:20250325T210000
DTSTAMP:20260425T134058
CREATED:20250124T140143Z
LAST-MODIFIED:20250425T132503Z
UID:10000506-1742931000-1742936400@acceptingcollapse.com
SUMMARY:Resilience and Acceptance in the Face of Collapse
DESCRIPTION:A free\, 9-session online course about the climate and cultural predicament we face\, meeting weekly Tuesdays\, beginning March 25\, 2025\, 7:30 PM-9:00 PM US Eastern. Click here for the START TIME in your time zone. Includes carefully curated homework assignments and guided group discussion. Co-led by Robert Whitehair and Geoff Ainscow from California\, US. Course attendance limited to 25 participants. \n\n\n\n\n\nCourse Leaders:
URL:https://acceptingcollapse.com/index.php/event/resilience-and-acceptance-in-the-face-of-collapse-16/
CATEGORIES:R & A Course
ATTACH;FMTTYPE=image/jpeg:https://acceptingcollapse.com/wp-content/uploads/2023/12/zongnan-bao-dGsvMyKOIIQ-unsplash-scaled.jpg
ORGANIZER;CN="Robert Whitehair":MAILTO:robertwhitehair2@gmail.com
END:VEVENT
END:VCALENDAR