BEGIN:VCALENDAR
VERSION:2.0
PRODID:-//Resilience and Acceptance in the Face of Collapse - ECPv6.15.20//NONSGML v1.0//EN
CALSCALE:GREGORIAN
METHOD:PUBLISH
X-WR-CALNAME:Resilience and Acceptance in the Face of Collapse
X-ORIGINAL-URL:https://acceptingcollapse.com
X-WR-CALDESC:Events for Resilience and Acceptance in the Face of Collapse
REFRESH-INTERVAL;VALUE=DURATION:PT1H
X-Robots-Tag:noindex
X-PUBLISHED-TTL:PT1H
BEGIN:VTIMEZONE
TZID:America/New_York
BEGIN:DAYLIGHT
TZOFFSETFROM:-0500
TZOFFSETTO:-0400
TZNAME:EDT
DTSTART:20250309T070000
END:DAYLIGHT
BEGIN:STANDARD
TZOFFSETFROM:-0400
TZOFFSETTO:-0500
TZNAME:EST
DTSTART:20251102T060000
END:STANDARD
BEGIN:DAYLIGHT
TZOFFSETFROM:-0500
TZOFFSETTO:-0400
TZNAME:EDT
DTSTART:20260308T070000
END:DAYLIGHT
BEGIN:STANDARD
TZOFFSETFROM:-0400
TZOFFSETTO:-0500
TZNAME:EST
DTSTART:20261101T060000
END:STANDARD
BEGIN:DAYLIGHT
TZOFFSETFROM:-0500
TZOFFSETTO:-0400
TZNAME:EDT
DTSTART:20270314T070000
END:DAYLIGHT
BEGIN:STANDARD
TZOFFSETFROM:-0400
TZOFFSETTO:-0500
TZNAME:EST
DTSTART:20271107T060000
END:STANDARD
END:VTIMEZONE
BEGIN:VEVENT
DTSTART;TZID=America/New_York:20260303T180000
DTEND;TZID=America/New_York:20260303T193000
DTSTAMP:20260421T083619
CREATED:20250924T150004Z
LAST-MODIFIED:20260409T185623Z
UID:10000544-1772560800-1772566200@acceptingcollapse.com
SUMMARY:Resilience and Acceptance in the Face of Collapse: Course Meeting In-Person in Wayland\, MA
DESCRIPTION:A free\, 9-session in-person course in Wayland\, MA. Our course leaders and developers offer the Resilience and Acceptance course as a gift–free of charge–to all course participants. In this 9-session course\, we create space to talk together about the environmental and cultural predicament we face\, and how we can meet the challenges of collapse courageously as a community. Please note that this is not an online course offering. Meeting weekly on Tuesdays\, March 3\, 2026\, 6:00 PM-7:30 PM\, US Eastern. Includes carefully curated homework assignments and guided group discussion. Led by Jim Wolfson. Course attendance limited to 12 participants. \n\n\n\n\n\nCourse Leaders:
URL:https://acceptingcollapse.com/index.php/event/resilience-and-acceptance-in-the-face-of-collapse-course-meeting-in-person-in-wayland-ma-4/
LOCATION:Wayland Course Location\, 18 Woodridge Rd\, Wayland\, MA\, 01778\, United States
CATEGORIES:R & A Course,R & A On-Land Course
ATTACH;FMTTYPE=image/jpeg:https://acceptingcollapse.com/wp-content/uploads/2023/10/johannes-plenio-qkfxBc2NQ18-unsplash-Free.jpg
ORGANIZER;CN="Jim Wolfson":MAILTO:jim@jimwolfson.com
END:VEVENT
BEGIN:VEVENT
DTSTART;TZID=America/New_York:20260303T180000
DTEND;TZID=America/New_York:20260303T193000
DTSTAMP:20260421T083619
CREATED:20260109T171044Z
LAST-MODIFIED:20260113T021408Z
UID:10000573-1772560800-1772566200@acceptingcollapse.com
SUMMARY:Resilience and Acceptance in the Face of Collapse
DESCRIPTION:In this 9-session course\, we create space to talk together about the environmental and cultural predicament we face\, and how we can meet the challenges of collapse courageously as a community. The course is offered free of charge. We will meet weekly\, beginning Tuesday\, March 3 at 6:00 PM Eastern US. Click here for time in your time zone. Includes carefully curated homework assignments and guided group discussion. Co-led by Nilesh Thali and Kurt Schwartz. Course attendance limited to 20 participants. \n\n\n\n\n\nCourse Leaders:
URL:https://acceptingcollapse.com/index.php/event/resilience-and-acceptance-in-the-face-of-collapse-51/
LOCATION:Massachusetts
CATEGORIES:R & A Course
ATTACH;FMTTYPE=image/jpeg:https://acceptingcollapse.com/wp-content/uploads/2025/10/IMG_0819-scaled.jpg
ORGANIZER;CN="Nilesh Thali":MAILTO:nilesh@itsallwriteby.me
END:VEVENT
END:VCALENDAR