BEGIN:VCALENDAR
VERSION:2.0
PRODID:-//Resilience and Acceptance in the Face of Collapse - ECPv6.15.20//NONSGML v1.0//EN
CALSCALE:GREGORIAN
METHOD:PUBLISH
X-ORIGINAL-URL:https://acceptingcollapse.com
X-WR-CALDESC:Events for Resilience and Acceptance in the Face of Collapse
REFRESH-INTERVAL;VALUE=DURATION:PT1H
X-Robots-Tag:noindex
X-PUBLISHED-TTL:PT1H
BEGIN:VTIMEZONE
TZID:America/New_York
BEGIN:DAYLIGHT
TZOFFSETFROM:-0500
TZOFFSETTO:-0400
TZNAME:EDT
DTSTART:20240310T070000
END:DAYLIGHT
BEGIN:STANDARD
TZOFFSETFROM:-0400
TZOFFSETTO:-0500
TZNAME:EST
DTSTART:20241103T060000
END:STANDARD
BEGIN:DAYLIGHT
TZOFFSETFROM:-0500
TZOFFSETTO:-0400
TZNAME:EDT
DTSTART:20250309T070000
END:DAYLIGHT
BEGIN:STANDARD
TZOFFSETFROM:-0400
TZOFFSETTO:-0500
TZNAME:EST
DTSTART:20251102T060000
END:STANDARD
BEGIN:DAYLIGHT
TZOFFSETFROM:-0500
TZOFFSETTO:-0400
TZNAME:EDT
DTSTART:20260308T070000
END:DAYLIGHT
BEGIN:STANDARD
TZOFFSETFROM:-0400
TZOFFSETTO:-0500
TZNAME:EST
DTSTART:20261101T060000
END:STANDARD
END:VTIMEZONE
BEGIN:VEVENT
DTSTART;TZID=America/New_York:20250325T193000
DTEND;TZID=America/New_York:20250325T210000
DTSTAMP:20260422T070457
CREATED:20250124T140143Z
LAST-MODIFIED:20250425T132503Z
UID:10000506-1742931000-1742936400@acceptingcollapse.com
SUMMARY:Resilience and Acceptance in the Face of Collapse
DESCRIPTION:A free\, 9-session online course about the climate and cultural predicament we face\, meeting weekly Tuesdays\, beginning March 25\, 2025\, 7:30 PM-9:00 PM US Eastern. Click here for the START TIME in your time zone. Includes carefully curated homework assignments and guided group discussion. Co-led by Robert Whitehair and Geoff Ainscow from California\, US. Course attendance limited to 25 participants. \n\n\n\n\n\nCourse Leaders:
URL:https://acceptingcollapse.com/index.php/event/resilience-and-acceptance-in-the-face-of-collapse-16/
CATEGORIES:R & A Course
ATTACH;FMTTYPE=image/jpeg:https://acceptingcollapse.com/wp-content/uploads/2023/12/zongnan-bao-dGsvMyKOIIQ-unsplash-scaled.jpg
ORGANIZER;CN="Robert Whitehair":MAILTO:robertwhitehair2@gmail.com
END:VEVENT
END:VCALENDAR