BEGIN:VCALENDAR
VERSION:2.0
PRODID:-//Resilience and Acceptance in the Face of Collapse - ECPv6.15.20//NONSGML v1.0//EN
CALSCALE:GREGORIAN
METHOD:PUBLISH
X-WR-CALNAME:Resilience and Acceptance in the Face of Collapse
X-ORIGINAL-URL:https://acceptingcollapse.com
X-WR-CALDESC:Events for Resilience and Acceptance in the Face of Collapse
REFRESH-INTERVAL;VALUE=DURATION:PT1H
X-Robots-Tag:noindex
X-PUBLISHED-TTL:PT1H
BEGIN:VTIMEZONE
TZID:America/New_York
BEGIN:DAYLIGHT
TZOFFSETFROM:-0500
TZOFFSETTO:-0400
TZNAME:EDT
DTSTART:20240310T070000
END:DAYLIGHT
BEGIN:STANDARD
TZOFFSETFROM:-0400
TZOFFSETTO:-0500
TZNAME:EST
DTSTART:20241103T060000
END:STANDARD
BEGIN:DAYLIGHT
TZOFFSETFROM:-0500
TZOFFSETTO:-0400
TZNAME:EDT
DTSTART:20250309T070000
END:DAYLIGHT
BEGIN:STANDARD
TZOFFSETFROM:-0400
TZOFFSETTO:-0500
TZNAME:EST
DTSTART:20251102T060000
END:STANDARD
BEGIN:DAYLIGHT
TZOFFSETFROM:-0500
TZOFFSETTO:-0400
TZNAME:EDT
DTSTART:20260308T070000
END:DAYLIGHT
BEGIN:STANDARD
TZOFFSETFROM:-0400
TZOFFSETTO:-0500
TZNAME:EST
DTSTART:20261101T060000
END:STANDARD
END:VTIMEZONE
BEGIN:VEVENT
DTSTART;TZID=America/New_York:20250128T120000
DTEND;TZID=America/New_York:20250128T133000
DTSTAMP:20260422T084323
CREATED:20241210T200541Z
LAST-MODIFIED:20250201T202434Z
UID:10000498-1738065600-1738071000@acceptingcollapse.com
SUMMARY:Resilience and Acceptance in the Face of Collapse: Course Meeting In-Person in Wayland\, MA
DESCRIPTION:A free\, 9-session in-person course in Wayland\, MA\, about the climate and cultural predicament we face. Please note that this is not an online course offering.  Meeting weekly on Tuesdays\, January 28\, 2025-March 25\, 2025\, 12:00 noon-1:30 PM\, US Eastern. Includes carefully curated homework assignments and guided group discussion. Led by Jim Wolfson. Course attendance limited to 10 participants. \n\n\n\n\n\nCourse Leaders:
URL:https://acceptingcollapse.com/index.php/event/resilience-and-acceptance-in-the-face-of-collapse-course-meeting-in-person-in-boston-ma-area/
LOCATION:Wayland Course Location\, 18 Woodridge Rd\, Wayland\, MA\, 01778\, United States
CATEGORIES:R & A Course,R & A On-Land Course
ATTACH;FMTTYPE=image/jpeg:https://acceptingcollapse.com/wp-content/uploads/2024/03/birger-strahl-rH5ozVqx-V0-unsplash.jpg
ORGANIZER;CN="Jim Wolfson":MAILTO:jim@jimwolfson.com
END:VEVENT
END:VCALENDAR