BEGIN:VCALENDAR
VERSION:2.0
PRODID:-//Resilience and Acceptance in the Face of Collapse - ECPv6.15.20//NONSGML v1.0//EN
CALSCALE:GREGORIAN
METHOD:PUBLISH
X-ORIGINAL-URL:https://acceptingcollapse.com
X-WR-CALDESC:Events for Resilience and Acceptance in the Face of Collapse
REFRESH-INTERVAL;VALUE=DURATION:PT1H
X-Robots-Tag:noindex
X-PUBLISHED-TTL:PT1H
BEGIN:VTIMEZONE
TZID:America/New_York
BEGIN:DAYLIGHT
TZOFFSETFROM:-0500
TZOFFSETTO:-0400
TZNAME:EDT
DTSTART:20230312T070000
END:DAYLIGHT
BEGIN:STANDARD
TZOFFSETFROM:-0400
TZOFFSETTO:-0500
TZNAME:EST
DTSTART:20231105T060000
END:STANDARD
BEGIN:DAYLIGHT
TZOFFSETFROM:-0500
TZOFFSETTO:-0400
TZNAME:EDT
DTSTART:20240310T070000
END:DAYLIGHT
BEGIN:STANDARD
TZOFFSETFROM:-0400
TZOFFSETTO:-0500
TZNAME:EST
DTSTART:20241103T060000
END:STANDARD
BEGIN:DAYLIGHT
TZOFFSETFROM:-0500
TZOFFSETTO:-0400
TZNAME:EDT
DTSTART:20250309T070000
END:DAYLIGHT
BEGIN:STANDARD
TZOFFSETFROM:-0400
TZOFFSETTO:-0500
TZNAME:EST
DTSTART:20251102T060000
END:STANDARD
END:VTIMEZONE
BEGIN:VEVENT
DTSTART;TZID=America/New_York:20240910T120000
DTEND;TZID=America/New_York:20240910T133000
DTSTAMP:20260422T170523
CREATED:20240705T145002Z
LAST-MODIFIED:20240711T201150Z
UID:10000459-1725969600-1725975000@acceptingcollapse.com
SUMMARY:Resilience and Acceptance in the Face of Collapse
DESCRIPTION:A free\, 9-session online course about the climate and cultural predicament we face\, meeting weekly on Tuesdays\, 9/10/2024-11/5/2024\, 12:00 noon US Eastern. Click here for the START TIME in your time zone. Includes carefully curated homework assignments and guided group discussion. Co-led by Jim Wolfson and Baldev Khalsa. Course attendance limited to 23 participants. \n\n\n\n\n\nCourse Leaders:
URL:https://acceptingcollapse.com/index.php/event/resilience-and-acceptance-in-the-face-of-collapse-10/
CATEGORIES:R & A Course
ATTACH;FMTTYPE=image/jpeg:https://acceptingcollapse.com/wp-content/uploads/2023/12/zongnan-bao-dGsvMyKOIIQ-unsplash-scaled.jpg
ORGANIZER;CN="Jim Wolfson":MAILTO:jim@jimwolfson.com
END:VEVENT
END:VCALENDAR