BEGIN:VCALENDAR
VERSION:2.0
PRODID:-//Resilience and Acceptance in the Face of Collapse - ECPv6.15.20//NONSGML v1.0//EN
CALSCALE:GREGORIAN
METHOD:PUBLISH
X-WR-CALNAME:Resilience and Acceptance in the Face of Collapse
X-ORIGINAL-URL:https://acceptingcollapse.com
X-WR-CALDESC:Events for Resilience and Acceptance in the Face of Collapse
REFRESH-INTERVAL;VALUE=DURATION:PT1H
X-Robots-Tag:noindex
X-PUBLISHED-TTL:PT1H
BEGIN:VTIMEZONE
TZID:America/New_York
BEGIN:DAYLIGHT
TZOFFSETFROM:-0500
TZOFFSETTO:-0400
TZNAME:EDT
DTSTART:20250309T070000
END:DAYLIGHT
BEGIN:STANDARD
TZOFFSETFROM:-0400
TZOFFSETTO:-0500
TZNAME:EST
DTSTART:20251102T060000
END:STANDARD
BEGIN:DAYLIGHT
TZOFFSETFROM:-0500
TZOFFSETTO:-0400
TZNAME:EDT
DTSTART:20260308T070000
END:DAYLIGHT
BEGIN:STANDARD
TZOFFSETFROM:-0400
TZOFFSETTO:-0500
TZNAME:EST
DTSTART:20261101T060000
END:STANDARD
BEGIN:DAYLIGHT
TZOFFSETFROM:-0500
TZOFFSETTO:-0400
TZNAME:EDT
DTSTART:20270314T070000
END:DAYLIGHT
BEGIN:STANDARD
TZOFFSETFROM:-0400
TZOFFSETTO:-0500
TZNAME:EST
DTSTART:20271107T060000
END:STANDARD
END:VTIMEZONE
BEGIN:VEVENT
DTSTART;TZID=America/New_York:20260114T190000
DTEND;TZID=America/New_York:20260114T203000
DTSTAMP:20260421T104446
CREATED:20250813T160615Z
LAST-MODIFIED:20260121T231023Z
UID:10000539-1768417200-1768422600@acceptingcollapse.com
SUMMARY:Resilience and Acceptance in the Face of Collapse
DESCRIPTION:Our course leaders and developers offer the Resilience and Acceptance course as a gift–free of charge–to all course participants. In this 9-session course\, we create space to talk together about the environmental and cultural predicament we face\, and how we can meet the challenges of collapse courageously as a community. We will meet weekly starting on Wednesdays from January 14\, 2026\, until March 11\, 7:00 PM Eastern US. Click here for time in your time zone. Includes carefully curated homework assignments and guided group discussion. Co-led by Pam Nichols and Melissa Ribner. Course attendance limited to 27 participants. \n\n\n\n\n\nCourse Leaders:
URL:https://acceptingcollapse.com/index.php/event/resilience-and-acceptance-in-the-face-of-collapse-30/
LOCATION:Massachusetts
CATEGORIES:R & A Course
ATTACH;FMTTYPE=image/jpeg:https://acceptingcollapse.com/wp-content/uploads/2024/03/birger-strahl-rH5ozVqx-V0-unsplash.jpg
ORGANIZER;CN="Pam Nichols":MAILTO:pam@areteinternational.com
END:VEVENT
BEGIN:VEVENT
DTSTART;TZID=America/New_York:20260115T200000
DTEND;TZID=America/New_York:20260115T213000
DTSTAMP:20260421T104446
CREATED:20251120T030204Z
LAST-MODIFIED:20260112T174608Z
UID:10000549-1768507200-1768512600@acceptingcollapse.com
SUMMARY:Resilience and Acceptance in the Face of Collapse
DESCRIPTION:In this 9-session course\, we create space to talk together about the environmental and cultural predicament we face\, and how we can meet the challenges of collapse courageously as a community. The course is offered free of charge. We will meet weekly\, beginning Thursday\, January 15\, 2026 at 8:00 PM Eastern US. Click here for time in your time zone. Includes carefully curated homework assignments and guided group discussion. Co-led by Baldev Khalsa and Marcus Brix. Course attendance limited to 20 participants. \n\n\n\n\n\nCourse Leaders:
URL:https://acceptingcollapse.com/index.php/event/resilience-and-acceptance-in-the-face-of-collapse-32/
LOCATION:Massachusetts
CATEGORIES:R & A Course
ATTACH;FMTTYPE=image/jpeg:https://acceptingcollapse.com/wp-content/uploads/2023/10/banyan8.jpeg
ORGANIZER;CN="Baldev Khalsa":MAILTO:baldev@khalsa.com
END:VEVENT
BEGIN:VEVENT
DTSTART;TZID=America/New_York:20260129T190000
DTEND;TZID=America/New_York:20260129T203000
DTSTAMP:20260421T104446
CREATED:20251202T025634Z
LAST-MODIFIED:20260113T184722Z
UID:10000551-1769713200-1769718600@acceptingcollapse.com
SUMMARY:Resilience and Acceptance in the Face of Collapse\, Meeting In-Person in Calgary\, Alberta
DESCRIPTION:A free\, 9-session course about the environmental and cultural predicament we face\, meeting weekly in-person in Calgary\, Alberta\, CAN. Our course leaders and developers offer the Resilience and Acceptance course as a gift–free of charge–to all course participants. In this 9-session course\, we create space to talk together about the environmental and cultural predicament we face\, and how we can meet the challenges of collapse courageously as a community. We will meet weekly starting Thursday\, January 29th at 7:00 PM MST. Please note that this is not an online offering. Includes carefully curated homework assignments and guided group discussion. Co-led by Jo Hildebrand and Linda Grandinetti. Course attendance limited to 8 participants. \n\n\n\n\n\nCourse Leaders:
URL:https://acceptingcollapse.com/index.php/event/resilience-and-acceptance-in-the-face-of-collapse-meeting-in-person-in-calgary-alberta-2/
LOCATION:Calgary Course Location\, #7\, 310 6 St NW\, Calgary\, AB\, Canada
CATEGORIES:R & A Course,R & A On-Land Course
ATTACH;FMTTYPE=image/jpeg:https://acceptingcollapse.com/wp-content/uploads/2023/10/96022D5D3EF14EEBAC5C606222983E44.jpg
ORGANIZER;CN="Jo Hildebrand":MAILTO:jolohild@gmail.com
END:VEVENT
END:VCALENDAR