BEGIN:VCALENDAR
VERSION:2.0
PRODID:-//Resilience and Acceptance in the Face of Collapse - ECPv6.15.20//NONSGML v1.0//EN
CALSCALE:GREGORIAN
METHOD:PUBLISH
X-ORIGINAL-URL:https://acceptingcollapse.com
X-WR-CALDESC:Events for Resilience and Acceptance in the Face of Collapse
REFRESH-INTERVAL;VALUE=DURATION:PT1H
X-Robots-Tag:noindex
X-PUBLISHED-TTL:PT1H
BEGIN:VTIMEZONE
TZID:America/New_York
BEGIN:DAYLIGHT
TZOFFSETFROM:-0500
TZOFFSETTO:-0400
TZNAME:EDT
DTSTART:20240310T070000
END:DAYLIGHT
BEGIN:STANDARD
TZOFFSETFROM:-0400
TZOFFSETTO:-0500
TZNAME:EST
DTSTART:20241103T060000
END:STANDARD
BEGIN:DAYLIGHT
TZOFFSETFROM:-0500
TZOFFSETTO:-0400
TZNAME:EDT
DTSTART:20250309T070000
END:DAYLIGHT
BEGIN:STANDARD
TZOFFSETFROM:-0400
TZOFFSETTO:-0500
TZNAME:EST
DTSTART:20251102T060000
END:STANDARD
BEGIN:DAYLIGHT
TZOFFSETFROM:-0500
TZOFFSETTO:-0400
TZNAME:EDT
DTSTART:20260308T070000
END:DAYLIGHT
BEGIN:STANDARD
TZOFFSETFROM:-0400
TZOFFSETTO:-0500
TZNAME:EST
DTSTART:20261101T060000
END:STANDARD
END:VTIMEZONE
BEGIN:VEVENT
DTSTART;TZID=America/New_York:20251007T190000
DTEND;TZID=America/New_York:20251007T203000
DTSTAMP:20260421T160825
CREATED:20250715T125101Z
LAST-MODIFIED:20251103T201106Z
UID:10000533-1759863600-1759869000@acceptingcollapse.com
SUMMARY:Resilience and Acceptance in the Face of Collapse\, Meeting In-Person in Calgary\, Alberta
DESCRIPTION:A free\, 9-session course about the environmental and cultural predicament we face\, meeting weekly in-person in Calgary\, Alberta\, CAN.  Our course leaders and developers offer the Resilience and Acceptance course as a gift–free of charge–to all course participants.  In this 9-session course\, we create space to talk together about the environmental and cultural predicament we face\, and how we can meet the challenges of collapse courageously as a community.  We will meet weekly starting Tuesday\, Oct 7 at 7:00 PM MDT. Please note that this is not an online offering. Includes carefully curated homework assignments and guided group discussion. Co-led by Jo Hildebrand and Linda Grandinetti. Course attendance limited to 10 participants. \n\n\n\n\n\nCourse Leaders:
URL:https://acceptingcollapse.com/index.php/event/resilience-and-acceptance-in-the-face-of-collapse-meeting-in-person-in-calgary-alberta/
LOCATION:Calgary Course Location\, #7\, 310 6 St NW\, Calgary\, AB\, Canada
CATEGORIES:R & A Course,R & A On-Land Course
ATTACH;FMTTYPE=image/jpeg:https://acceptingcollapse.com/wp-content/uploads/2023/11/image0-scaled.jpeg
ORGANIZER;CN="Linda Grandinetti":MAILTO:lindagrandinetti@hotmail.com
END:VEVENT
BEGIN:VEVENT
DTSTART;TZID=America/New_York:20251007T200000
DTEND;TZID=America/New_York:20251007T213000
DTSTAMP:20260421T160825
CREATED:20250812T211530Z
LAST-MODIFIED:20250924T144004Z
UID:10000537-1759867200-1759872600@acceptingcollapse.com
SUMMARY:Resilience and Acceptance in the Face of Collapse
DESCRIPTION:Our course leaders and developers offer the Resilience and Acceptance course as a gift–free of charge–to all course participants.  In this 9-session course\, we create space to talk together about the environmental and cultural predicament we face\, and how we can meet the challenges of collapse courageously as a community.  We will meet weekly starting on Tuesday\, October 7 at 8:00 PM Eastern US. Click here for time in your time zone. Includes carefully curated homework assignments and guided group discussion. Co-led by Julie Anne Steiger and Sascha Breuer. Course attendance limited to 25 participants. \n\n\n\n\n\nCourse Leaders:
URL:https://acceptingcollapse.com/index.php/event/resilience-and-acceptance-in-the-face-of-collapse-29/
CATEGORIES:R & A Course
ATTACH;FMTTYPE=image/jpeg:https://acceptingcollapse.com/wp-content/uploads/2023/10/IMG_8598-scaled.jpg
ORGANIZER;CN="Sascha Breuer":MAILTO:info@ahumansanctuary.org
END:VEVENT
BEGIN:VEVENT
DTSTART;TZID=America/New_York:20251011T093000
DTEND;TZID=America/New_York:20251011T110000
DTSTAMP:20260421T160825
CREATED:20250916T201629Z
LAST-MODIFIED:20251009T032452Z
UID:10000542-1760175000-1760180400@acceptingcollapse.com
SUMMARY:Resilience and Acceptance in the Face of Collapse
DESCRIPTION:In this free\, 9-session course\, we create space to talk together about the environmental and cultural predicament we face\, and how we can meet the challenges of collapse courageously as a community. We will meet weekly starting on Saturday\, October 11\, Eastern US. Click here for time in your time zone. (Please note that there will be no meeting Thanksgiving week in the U. S.\, November 29). Includes carefully curated homework assignments and guided group discussion. Co-led by Jim Fredrickson\, Will Powers\, and Chris Boraski. Course attendance limited to 25 participants. \n\n\n\n\n\nCourse Leaders:
URL:https://acceptingcollapse.com/index.php/event/resilience-and-acceptance-in-the-face-of-collapse-22/
CATEGORIES:R & A Course
ATTACH;FMTTYPE=image/jpeg:https://acceptingcollapse.com/wp-content/uploads/2023/10/birger-strahl-rH5ozVqx-V0-unsplash.jpg
ORGANIZER;CN="Will Powers":MAILTO:wjp913@gmail.com
END:VEVENT
BEGIN:VEVENT
DTSTART;TZID=America/New_York:20251016T120000
DTEND;TZID=America/New_York:20251016T133000
DTSTAMP:20260421T160825
CREATED:20250520T183035Z
LAST-MODIFIED:20251013T155407Z
UID:10000521-1760616000-1760621400@acceptingcollapse.com
SUMMARY:Resilience and Acceptance in the Face of Collapse
DESCRIPTION:In this 9-session course\, we create space to talk together about the environmental and cultural predicament we face\, and how we can meet the challenges of collapse courageously as a community. The course is offered free of charge.  We will meet weekly\, beginning Thursday\, October 16\, 2025\, 12:00 PM US Eastern- 1:30 PM. There will be no course meeting on November 27\, Thanksgiving Day in the U. S. Click here for the START TIME in your time zone. Includes carefully curated homework assignments and guided group discussion. Co-led by Kelle Kersten and Rochelle Sokol. Course attendance limited to 20 participants. \n\n\n\n\n\nCourse Leaders:
URL:https://acceptingcollapse.com/index.php/event/resilience-and-acceptance-in-the-face-of-collapse-25/
CATEGORIES:R & A Course
ATTACH;FMTTYPE=image/jpeg:https://acceptingcollapse.com/wp-content/uploads/2023/12/pexels.com_seaport-during-daytime-132037-scaled.jpg
ORGANIZER;CN="Rochelle Sokoll":MAILTO:rochelle.sokoll@gmail.com
END:VEVENT
END:VCALENDAR