BEGIN:VCALENDAR
VERSION:2.0
PRODID:-//Resilience and Acceptance in the Face of Collapse - ECPv6.15.20//NONSGML v1.0//EN
CALSCALE:GREGORIAN
METHOD:PUBLISH
X-WR-CALNAME:Resilience and Acceptance in the Face of Collapse
X-ORIGINAL-URL:https://acceptingcollapse.com
X-WR-CALDESC:Events for Resilience and Acceptance in the Face of Collapse
REFRESH-INTERVAL;VALUE=DURATION:PT1H
X-Robots-Tag:noindex
X-PUBLISHED-TTL:PT1H
BEGIN:VTIMEZONE
TZID:America/New_York
BEGIN:DAYLIGHT
TZOFFSETFROM:-0500
TZOFFSETTO:-0400
TZNAME:EDT
DTSTART:20240310T070000
END:DAYLIGHT
BEGIN:STANDARD
TZOFFSETFROM:-0400
TZOFFSETTO:-0500
TZNAME:EST
DTSTART:20241103T060000
END:STANDARD
BEGIN:DAYLIGHT
TZOFFSETFROM:-0500
TZOFFSETTO:-0400
TZNAME:EDT
DTSTART:20250309T070000
END:DAYLIGHT
BEGIN:STANDARD
TZOFFSETFROM:-0400
TZOFFSETTO:-0500
TZNAME:EST
DTSTART:20251102T060000
END:STANDARD
BEGIN:DAYLIGHT
TZOFFSETFROM:-0500
TZOFFSETTO:-0400
TZNAME:EDT
DTSTART:20260308T070000
END:DAYLIGHT
BEGIN:STANDARD
TZOFFSETFROM:-0400
TZOFFSETTO:-0500
TZNAME:EST
DTSTART:20261101T060000
END:STANDARD
END:VTIMEZONE
BEGIN:VEVENT
DTSTART;TZID=America/New_York:20250407T030000
DTEND;TZID=America/New_York:20250407T043000
DTSTAMP:20260422T031856
CREATED:20241231T183941Z
LAST-MODIFIED:20250610T134847Z
UID:10000501-1743994800-1744000200@acceptingcollapse.com
SUMMARY:Resilience and Acceptance in the Face of Collapse
DESCRIPTION:A free\, 9-session online course about the climate and cultural predicament we face\, meeting weekly Mondays\, beginning April 7\, 2025. This course offering is open to all\, and is most suitable for those in African\, European and Asian/Australasian time zones\, such as the examples below: \n\n\n\n\nNew Zealand: 7 April\, 7:00 PM NZST\n\n\n\nBali\, Indonesia: 7 April\, 3:00 PM WITA\n\n\n\nUnited Kingdom: 7 April\, 8:00 AM BST\n\n\n\n\nClick here for the START TIME in your time zone. Includes carefully curated homework assignments and guided group discussion. Co-led by Sunshine Yates\, from New Zealand\, and Vix Anderton\, from Bali. Course attendance limited to 25 participants. \n\n\n\n\n\nCourse Leaders:
URL:https://acceptingcollapse.com/index.php/event/resilience-and-acceptance-in-the-face-of-collapse-17/
CATEGORIES:R & A Course
ATTACH;FMTTYPE=image/jpeg:https://acceptingcollapse.com/wp-content/uploads/2023/12/v2osk-C68WT0YKGxo-unsplash-1.jpg
ORGANIZER;CN="Sunshine Yates":MAILTO:thesunsh@gmail.com
END:VEVENT
BEGIN:VEVENT
DTSTART;TZID=America/New_York:20250429T120000
DTEND;TZID=America/New_York:20250429T133000
DTSTAMP:20260422T031856
CREATED:20250304T192035Z
LAST-MODIFIED:20250520T221834Z
UID:10000511-1745928000-1745933400@acceptingcollapse.com
SUMMARY:Resilience and Acceptance in the Face of Collapse: Course Meeting In-Person in Wayland\, MA
DESCRIPTION:A free\, 9-session in-person course in Wayland\, MA\, about the climate and cultural predicament we face. Please note that this is not an online course offering. Meeting weekly on Tuesdays\, April 29-June 24\, 2025\, 12:00 noon-1:30 PM\, US Eastern. Includes carefully curated homework assignments and guided group discussion. Led by Jim Wolfson. Course attendance limited to 10 participants. \n\n\n\n\n\nCourse Leaders:
URL:https://acceptingcollapse.com/index.php/event/resilience-and-acceptance-in-the-face-of-collapse-course-meeting-in-person-in-wayland-ma/
LOCATION:Wayland Course Location\, 18 Woodridge Rd\, Wayland\, MA\, 01778\, United States
CATEGORIES:R & A Course,R & A On-Land Course
ATTACH;FMTTYPE=image/jpeg:https://acceptingcollapse.com/wp-content/uploads/2023/12/3C828E32-C297-4459-BEF6-95E6BD332F13-scaled.jpeg
ORGANIZER;CN="Jim Wolfson":MAILTO:jim@jimwolfson.com
END:VEVENT
END:VCALENDAR