BEGIN:VCALENDAR
VERSION:2.0
PRODID:-//Resilience and Acceptance in the Face of Collapse - ECPv6.15.20//NONSGML v1.0//EN
CALSCALE:GREGORIAN
METHOD:PUBLISH
X-ORIGINAL-URL:https://acceptingcollapse.com
X-WR-CALDESC:Events for Resilience and Acceptance in the Face of Collapse
REFRESH-INTERVAL;VALUE=DURATION:PT1H
X-Robots-Tag:noindex
X-PUBLISHED-TTL:PT1H
BEGIN:VTIMEZONE
TZID:America/New_York
BEGIN:DAYLIGHT
TZOFFSETFROM:-0500
TZOFFSETTO:-0400
TZNAME:EDT
DTSTART:20230312T070000
END:DAYLIGHT
BEGIN:STANDARD
TZOFFSETFROM:-0400
TZOFFSETTO:-0500
TZNAME:EST
DTSTART:20231105T060000
END:STANDARD
BEGIN:DAYLIGHT
TZOFFSETFROM:-0500
TZOFFSETTO:-0400
TZNAME:EDT
DTSTART:20240310T070000
END:DAYLIGHT
BEGIN:STANDARD
TZOFFSETFROM:-0400
TZOFFSETTO:-0500
TZNAME:EST
DTSTART:20241103T060000
END:STANDARD
BEGIN:DAYLIGHT
TZOFFSETFROM:-0500
TZOFFSETTO:-0400
TZNAME:EDT
DTSTART:20250309T070000
END:DAYLIGHT
BEGIN:STANDARD
TZOFFSETFROM:-0400
TZOFFSETTO:-0500
TZNAME:EST
DTSTART:20251102T060000
END:STANDARD
END:VTIMEZONE
BEGIN:VEVENT
DTSTART;TZID=America/New_York:20240608T183000
DTEND;TZID=America/New_York:20240608T200000
DTSTAMP:20260422T202704
CREATED:20240506T211122Z
LAST-MODIFIED:20240509T023832Z
UID:10000453-1717871400-1717876800@acceptingcollapse.com
SUMMARY:Resilience and Acceptance in the Face of Collapse
DESCRIPTION:A free\, 9-session online course about the climate and cultural predicament we face\, meeting weekly on Saturday\, June 8\, 6:30 PM US Eastern.  (In Australia\, where Jane and Neil live\, the start time is Sunday\, June 9\, 8:30 AM Australian Eastern).  Click here for the time in your time zone.    Includes carefully curated homework assignments and guided group discussion.  Co-led by Jane Monk and Neil Mitchell.  Course attendance limited to 25 participants. \n\n\n\n\n\nCourse Leaders:
URL:https://acceptingcollapse.com/index.php/event/resilience-and-acceptance-in-the-face-of-collapse-8/
CATEGORIES:R & A Course
ATTACH;FMTTYPE=image/jpeg:https://acceptingcollapse.com/wp-content/uploads/2023/11/image0-scaled.jpeg
ORGANIZER;CN="Jane Monk":MAILTO:janefmb7@gmail.com
END:VEVENT
END:VCALENDAR